BEGIN:VCALENDAR
VERSION:2.0
PRODID:-//WKHQ - ECPv5.6.0//NONSGML v1.0//EN
CALSCALE:GREGORIAN
METHOD:PUBLISH
X-WR-CALNAME:WKHQ
X-ORIGINAL-URL:https://www.106khq.com
X-WR-CALDESC:Events for WKHQ
BEGIN:VTIMEZONE
TZID:America/New_York
BEGIN:DAYLIGHT
TZOFFSETFROM:-0500
TZOFFSETTO:-0400
TZNAME:EDT
DTSTART:20260308T070000
END:DAYLIGHT
BEGIN:STANDARD
TZOFFSETFROM:-0400
TZOFFSETTO:-0500
TZNAME:EST
DTSTART:20261101T060000
END:STANDARD
END:VTIMEZONE
BEGIN:VEVENT
DTSTART;TZID=America/New_York:20260424T110000
DTEND;TZID=America/New_York:20260424T130000
DTSTAMP:20260420T151147
CREATED:20260420T135852Z
LAST-MODIFIED:20260420T135852Z
UID:75384-1777028400-1777035600@www.106khq.com
SUMMARY:Cheeseburger in Paradise Boat Show
DESCRIPTION:Mark your calendars—boat season starts here.\nJoin us April 24–26 for our annual Boat Show at Indian River Sports Center and get ready for summer on the water. We’ll have a wide selection of boats on display from top brands like Yamaha\, Tahoe Pontoon Boats\, and Avalon Pontoons\, plus everything you need to gear up for the season.\n\n What to Expect:• Season-opening boat deals• Giveaways throughout the weekend• Refreshments while you browse• The latest docks\, lifts\, and accessories• Our team on-site to help you find the perfect setup\n\nWhether you’re upgrading\, buying your first boat\, or just getting inspired for summer\, this is the event you don’t want to miss.\n Indian River Sports Center April 24–26\nBring your friends\, bring your family\, and come kick off boating season with us.
URL:https://www.106khq.com/tribe_events/cheeseburger-in-paradise-boat-show/
LOCATION:Indian River Sports Center\, 562 S Straits Hwy\, Indian River\, Michigan\, 49749
END:VEVENT
END:VCALENDAR